BEGIN:VCALENDAR
VERSION:2.0
PRODID:-//Pictures London//Cinema Listings//EN
CALSCALE:GREGORIAN
METHOD:PUBLISH
X-WR-CALNAME:Pictures London Cinema
BEGIN:VEVENT
UID:ae177e0f-70f5-42e4-a38b-cf5b86ce9f5d@pictures.london
DTSTART:20260421T151500Z
DTEND:20260421T170500Z
SUMMARY:The Magic Faraway Tree (2026) at Everyman Chelsea
DESCRIPTION:The Magic Faraway Tree (2026)\nat Everyman Chelsea\nBook: https://purchase.everymancinema.com/launch/ticketing/4490bceb-b676-5031-908c-72153f4d71f6\nvia Pictures (pictures.london)
LOCATION:Everyman Chelsea\, 279 King's Road\, Chelsea\, SW3 3TD
URL:https://purchase.everymancinema.com/launch/ticketing/4490bceb-b676-5031-908c-72153f4d71f6
STATUS:CONFIRMED
END:VEVENT
END:VCALENDAR