BEGIN:VCALENDAR
VERSION:2.0
PRODID:-//Pictures London//Cinema Listings//EN
CALSCALE:GREGORIAN
METHOD:PUBLISH
X-WR-CALNAME:Pictures London Cinema
BEGIN:VEVENT
UID:adba1136-0109-4ab3-9573-192c1e5959f4@pictures.london
DTSTART:20260422T114500Z
DTEND:20260422T135200Z
SUMMARY:Michael (2026) at Everyman Maida Vale
DESCRIPTION:Michael (2026)\nat Everyman Maida Vale\nBook: https://purchase.everymancinema.com/launch/ticketing/985db441-14f1-57e1-b924-eacf04c1dc98\nvia Pictures (pictures.london)
LOCATION:Everyman Maida Vale\, 215 Sutherland Avenue\, Maida Vale\, W9 1TT
URL:https://purchase.everymancinema.com/launch/ticketing/985db441-14f1-57e1-b924-eacf04c1dc98
STATUS:CONFIRMED
END:VEVENT
END:VCALENDAR