BEGIN:VCALENDAR
VERSION:2.0
PRODID:-//Pictures London//Cinema Listings//EN
CALSCALE:GREGORIAN
METHOD:PUBLISH
X-WR-CALNAME:Pictures London Cinema
BEGIN:VEVENT
UID:ad4569e2-84b3-4b1f-872b-6fab25f9f9fd@pictures.london
DTSTART:20260425T220000Z
DTEND:20260426T000000Z
SUMMARY:Ego Death: An LSD Dream Emulator at Rio Cinema
DESCRIPTION:Ego Death: An LSD Dream Emulator\nat Rio Cinema\nBook: https://riocinema.org.uk/Rio.dll/WhatsOn?f=1982759\nvia Pictures (pictures.london)
LOCATION:Rio Cinema\, 107 Kingsland High Street\, Dalston\, E8 2PB
URL:https://riocinema.org.uk/Rio.dll/WhatsOn?f=1982759
STATUS:CONFIRMED
END:VEVENT
END:VCALENDAR