BEGIN:VCALENDAR
VERSION:2.0
PRODID:-//Pictures London//Cinema Listings//EN
CALSCALE:GREGORIAN
METHOD:PUBLISH
X-WR-CALNAME:Pictures London Cinema
BEGIN:VEVENT
UID:acb34469-6f44-4947-bd2c-8cb6b7513109@pictures.london
DTSTART:20260421T183000Z
DTEND:20260421T201500Z
SUMMARY:The Drama (2026) at Castle Cinema
DESCRIPTION:The Drama (2026)\nat Castle Cinema\nBook: https://thecastlecinema.com/bookings/16418/\nvia Pictures (pictures.london)
LOCATION:Castle Cinema\, 64-66 Brooksby's Walk\, Hackney\, E9 6DA
URL:https://thecastlecinema.com/bookings/16418/
STATUS:CONFIRMED
END:VEVENT
END:VCALENDAR