BEGIN:VCALENDAR
VERSION:2.0
PRODID:-//Pictures London//Cinema Listings//EN
CALSCALE:GREGORIAN
METHOD:PUBLISH
X-WR-CALNAME:Pictures London Cinema
BEGIN:VEVENT
UID:ac720e48-dad9-4c61-a28c-2f06acab7ead@pictures.london
DTSTART:20260421T204500Z
DTEND:20260421T223900Z
SUMMARY:Rose of Nevada (2026) at East Dulwich Picturehouse
DESCRIPTION:Rose of Nevada (2026)\nat East Dulwich Picturehouse\nEvent: preview\nBook: https://www.picturehouses.com/movie-details/009/HO00017705/rose-of-nevada\nvia Pictures (pictures.london)
LOCATION:East Dulwich Picturehouse\, Lordship Lane\, East Dulwich\, SE22 8EW
URL:https://www.picturehouses.com/movie-details/009/HO00017705/rose-of-nevada
STATUS:CONFIRMED
END:VEVENT
END:VCALENDAR