BEGIN:VCALENDAR
VERSION:2.0
PRODID:-//Pictures London//Cinema Listings//EN
CALSCALE:GREGORIAN
METHOD:PUBLISH
X-WR-CALNAME:Pictures London Cinema
BEGIN:VEVENT
UID:ac6f7f54-0476-4d09-a365-6b24edb1a33a@pictures.london
DTSTART:20260421T180000Z
DTEND:20260421T201300Z
SUMMARY:La Grazia (2025) at Everyman Chelsea
DESCRIPTION:La Grazia (2025)\nat Everyman Chelsea\nBook: https://purchase.everymancinema.com/launch/ticketing/c5427a29-db30-5a97-879e-2448ab1575d5\nvia Pictures (pictures.london)
LOCATION:Everyman Chelsea\, 279 King's Road\, Chelsea\, SW3 3TD
URL:https://purchase.everymancinema.com/launch/ticketing/c5427a29-db30-5a97-879e-2448ab1575d5
STATUS:CONFIRMED
END:VEVENT
END:VCALENDAR