BEGIN:VCALENDAR
VERSION:2.0
PRODID:-//Pictures London//Cinema Listings//EN
CALSCALE:GREGORIAN
METHOD:PUBLISH
X-WR-CALNAME:Pictures London Cinema
BEGIN:VEVENT
UID:ac03786a-d27d-43cb-a59c-1341c00c3f5a@pictures.london
DTSTART:20260421T174000Z
DTEND:20260421T191600Z
SUMMARY:Rebuilding (2025) at Greenwich Picturehouse
DESCRIPTION:Rebuilding (2025)\nat Greenwich Picturehouse\nBook: https://www.picturehouses.com/movie-details/021/HO00017446/rebuilding\nvia Pictures (pictures.london)
LOCATION:Greenwich Picturehouse\, 180 Greenwich High Road\, Greenwich\, SE10 9HB
URL:https://www.picturehouses.com/movie-details/021/HO00017446/rebuilding
STATUS:CONFIRMED
END:VEVENT
END:VCALENDAR