BEGIN:VCALENDAR
VERSION:2.0
PRODID:-//Pictures London//Cinema Listings//EN
CALSCALE:GREGORIAN
METHOD:PUBLISH
X-WR-CALNAME:Pictures London Cinema
BEGIN:VEVENT
UID:abd196b1-2a14-4d82-93a8-7c56ced25598@pictures.london
DTSTART:20260522T193000Z
DTEND:20260522T211500Z
SUMMARY:Bound (1996) at Rio Cinema
DESCRIPTION:Bound (1996)\nat Rio Cinema\nFormat: 35MM\nBook: https://riocinema.org.uk/Rio.dll/WhatsOn?f=2384042\nvia Pictures (pictures.london)
LOCATION:Rio Cinema\, 107 Kingsland High Street\, Dalston\, E8 2PB
URL:https://riocinema.org.uk/Rio.dll/WhatsOn?f=2384042
STATUS:CONFIRMED
END:VEVENT
END:VCALENDAR