BEGIN:VCALENDAR
VERSION:2.0
PRODID:-//Pictures London//Cinema Listings//EN
CALSCALE:GREGORIAN
METHOD:PUBLISH
X-WR-CALNAME:Pictures London Cinema
BEGIN:VEVENT
UID:abc83cc4-ca53-471e-bebd-6a96439dac53@pictures.london
DTSTART:20260424T180000Z
DTEND:20260424T181000Z
SUMMARY:Primavera (1998) at Finsbury Park Picturehouse
DESCRIPTION:Primavera (1998)\nat Finsbury Park Picturehouse\nBook: https://www.picturehouses.com/movie-details/029/HO00017770/primavera\nvia Pictures (pictures.london)
LOCATION:Finsbury Park Picturehouse\, Unit B\, Finsbury Park Station\, Finsbury Park\, N4 3FP
URL:https://www.picturehouses.com/movie-details/029/HO00017770/primavera
STATUS:CONFIRMED
END:VEVENT
END:VCALENDAR