BEGIN:VCALENDAR
VERSION:2.0
PRODID:-//Pictures London//Cinema Listings//EN
CALSCALE:GREGORIAN
METHOD:PUBLISH
X-WR-CALNAME:Pictures London Cinema
BEGIN:VEVENT
UID:ab95797c-128b-433d-bcc5-7fa5764077b9@pictures.london
DTSTART:20260421T195000Z
DTEND:20260421T210900Z
SUMMARY:Underland (2026) at Curzon Bloomsbury
DESCRIPTION:Underland (2026)\nat Curzon Bloomsbury\nBook: https://www.curzon.com/films/dochouse-underland/HO00006880/\nvia Pictures (pictures.london)
LOCATION:Curzon Bloomsbury\, The Brunswick Centre\, Bloomsbury\, WC1H 8AG
URL:https://www.curzon.com/films/dochouse-underland/HO00006880/
STATUS:CONFIRMED
END:VEVENT
END:VCALENDAR