BEGIN:VCALENDAR
VERSION:2.0
PRODID:-//Pictures London//Cinema Listings//EN
CALSCALE:GREGORIAN
METHOD:PUBLISH
X-WR-CALNAME:Pictures London Cinema
BEGIN:VEVENT
UID:aa1a4f71-6008-4ee2-a23c-4138ed3e2cad@pictures.london
DTSTART:20260425T161000Z
DTEND:20260425T175200Z
SUMMARY:Redline (2009) at Prince Charles Cinema
DESCRIPTION:Redline (2009)\nat Prince Charles Cinema\nBook: https://princecharlescinema.com/prince-charles-cinema/booknow/31626070\nvia Pictures (pictures.london)
LOCATION:Prince Charles Cinema\, 7 Leicester Place\, Leicester Square\, WC2H 7BY
URL:https://princecharlescinema.com/prince-charles-cinema/booknow/31626070
STATUS:CONFIRMED
END:VEVENT
END:VCALENDAR