BEGIN:VCALENDAR
VERSION:2.0
PRODID:-//Pictures London//Cinema Listings//EN
CALSCALE:GREGORIAN
METHOD:PUBLISH
X-WR-CALNAME:Pictures London Cinema
BEGIN:VEVENT
UID:a9478092-a1f5-4ab1-8b34-8ac3bfdef51e@pictures.london
DTSTART:20260501T164000Z
DTEND:20260501T183900Z
SUMMARY:The Devil Wears Prada 2 (2026) at Riverside Studios
DESCRIPTION:The Devil Wears Prada 2 (2026)\nat Riverside Studios\nBook: https://riversidestudios.co.uk/seats/172801/\nvia Pictures (pictures.london)
LOCATION:Riverside Studios\, 101 Queen Caroline Street\, Hammersmith\, W6 9BN
URL:https://riversidestudios.co.uk/seats/172801/
STATUS:CONFIRMED
END:VEVENT
END:VCALENDAR