BEGIN:VCALENDAR
VERSION:2.0
PRODID:-//Pictures London//Cinema Listings//EN
CALSCALE:GREGORIAN
METHOD:PUBLISH
X-WR-CALNAME:Pictures London Cinema
BEGIN:VEVENT
UID:a8f70068-c87f-4a9e-b7a8-58faa166de53@pictures.london
DTSTART:20260513T173000Z
DTEND:20260513T185700Z
SUMMARY:The Fantasy of Deer Warrior (1961) at Rio Cinema
DESCRIPTION:The Fantasy of Deer Warrior (1961)\nat Rio Cinema\nBook: https://riocinema.org.uk/Rio.dll/WhatsOn?f=2384027\nvia Pictures (pictures.london)
LOCATION:Rio Cinema\, 107 Kingsland High Street\, Dalston\, E8 2PB
URL:https://riocinema.org.uk/Rio.dll/WhatsOn?f=2384027
STATUS:CONFIRMED
END:VEVENT
END:VCALENDAR