BEGIN:VCALENDAR
VERSION:2.0
PRODID:-//Pictures London//Cinema Listings//EN
CALSCALE:GREGORIAN
METHOD:PUBLISH
X-WR-CALNAME:Pictures London Cinema
BEGIN:VEVENT
UID:a8c9a460-3911-4f22-b87e-a37f99f5d504@pictures.london
DTSTART:20260422T161500Z
DTEND:20260422T181500Z
SUMMARY:Amelie - 25th Anniversary at Garden Cinema
DESCRIPTION:Amelie - 25th Anniversary\nat Garden Cinema\nBook: https://bookings.thegardencinema.co.uk/TheGardenCinema.dll/TSelectItems.waSelectItemsPrompt.TcsWebMenuItem_0.TcsWebTab_0.TcsPerformance_5409914.TcsSection_3060731\nvia Pictures (pictures.london)
LOCATION:Garden Cinema\, 39-41 Parker Street\, Covent Garden\, WC2B 5PQ
URL:https://bookings.thegardencinema.co.uk/TheGardenCinema.dll/TSelectItems.waSelectItemsPrompt.TcsWebMenuItem_0.TcsWebTab_0.TcsPerformance_5409914.TcsSection_3060731
STATUS:CONFIRMED
END:VEVENT
END:VCALENDAR