BEGIN:VCALENDAR
VERSION:2.0
PRODID:-//Pictures London//Cinema Listings//EN
CALSCALE:GREGORIAN
METHOD:PUBLISH
X-WR-CALNAME:Pictures London Cinema
BEGIN:VEVENT
UID:a7b1471d-d693-46b5-8fa5-28beca4ddd50@pictures.london
DTSTART:20260421T191000Z
DTEND:20260421T214700Z
SUMMARY:Project Hail Mary (2026) at Barbican Cinema
DESCRIPTION:Project Hail Mary (2026)\nat Barbican Cinema\nBook: https://tickets.barbican.org.uk/choose-seats/3472002\nvia Pictures (pictures.london)
LOCATION:Barbican Cinema\, Silk Street\, Barbican\, EC2Y 8DS
URL:https://tickets.barbican.org.uk/choose-seats/3472002
STATUS:CONFIRMED
END:VEVENT
END:VCALENDAR