BEGIN:VCALENDAR
VERSION:2.0
PRODID:-//Pictures London//Cinema Listings//EN
CALSCALE:GREGORIAN
METHOD:PUBLISH
X-WR-CALNAME:Pictures London Cinema
BEGIN:VEVENT
UID:a785cb84-4ef2-48a6-af64-6404946ba99f@pictures.london
DTSTART:20260421T204000Z
DTEND:20260421T223000Z
SUMMARY:Father Mother Sister Brother (2025) at Finsbury Park Picturehouse
DESCRIPTION:Father Mother Sister Brother (2025)\nat Finsbury Park Picturehouse\nBook: https://www.picturehouses.com/movie-details/029/HO00017851/father-mother-sister-brother\nvia Pictures (pictures.london)
LOCATION:Finsbury Park Picturehouse\, Unit B\, Finsbury Park Station\, Finsbury Park\, N4 3FP
URL:https://www.picturehouses.com/movie-details/029/HO00017851/father-mother-sister-brother
STATUS:CONFIRMED
END:VEVENT
END:VCALENDAR