BEGIN:VCALENDAR
VERSION:2.0
PRODID:-//Pictures London//Cinema Listings//EN
CALSCALE:GREGORIAN
METHOD:PUBLISH
X-WR-CALNAME:Pictures London Cinema
BEGIN:VEVENT
UID:a70a0a0d-aa5b-45fc-8e19-8e09c2147a0a@pictures.london
DTSTART:20260422T190000Z
DTEND:20260422T210700Z
SUMMARY:Michael (2026) at Everyman Maida Vale
DESCRIPTION:Michael (2026)\nat Everyman Maida Vale\nBook: https://purchase.everymancinema.com/launch/ticketing/3592988d-f0dc-5c2b-9339-f2b2865dc9db\nvia Pictures (pictures.london)
LOCATION:Everyman Maida Vale\, 215 Sutherland Avenue\, Maida Vale\, W9 1TT
URL:https://purchase.everymancinema.com/launch/ticketing/3592988d-f0dc-5c2b-9339-f2b2865dc9db
STATUS:CONFIRMED
END:VEVENT
END:VCALENDAR