BEGIN:VCALENDAR
VERSION:2.0
PRODID:-//Pictures London//Cinema Listings//EN
CALSCALE:GREGORIAN
METHOD:PUBLISH
X-WR-CALNAME:Pictures London Cinema
BEGIN:VEVENT
UID:a69d0c7e-145f-4319-bd50-8419aaf2fbe3@pictures.london
DTSTART:20260425T103000Z
DTEND:20260425T121400Z
SUMMARY:The Bad Guys 2 (2025) at West Norwood Picturehouse
DESCRIPTION:The Bad Guys 2 (2025)\nat West Norwood Picturehouse\nEvent: special event\nBook: https://www.picturehouses.com/movie-details/023/HO00011590/the-bad-guys\nvia Pictures (pictures.london)
LOCATION:West Norwood Picturehouse\, The Old Library\, 14-16 Knight's Hill\, West Norwood\, SE27 9NX
URL:https://www.picturehouses.com/movie-details/023/HO00011590/the-bad-guys
STATUS:CONFIRMED
END:VEVENT
END:VCALENDAR