BEGIN:VCALENDAR
VERSION:2.0
PRODID:-//Pictures London//Cinema Listings//EN
CALSCALE:GREGORIAN
METHOD:PUBLISH
X-WR-CALNAME:Pictures London Cinema
BEGIN:VEVENT
UID:a698f5d5-c344-441c-98b2-fdcf24d693fb@pictures.london
DTSTART:20260421T184000Z
DTEND:20260421T202500Z
SUMMARY:The Drama (2026) at Everyman Canary Wharf
DESCRIPTION:The Drama (2026)\nat Everyman Canary Wharf\nBook: https://purchase.everymancinema.com/launch/ticketing/15023fd5-bb94-5480-81ac-ec18e728ce41\nvia Pictures (pictures.london)
LOCATION:Everyman Canary Wharf\, Crossrail Place\, Canary Wharf\, E14 5NY
URL:https://purchase.everymancinema.com/launch/ticketing/15023fd5-bb94-5480-81ac-ec18e728ce41
STATUS:CONFIRMED
END:VEVENT
END:VCALENDAR