BEGIN:VCALENDAR
VERSION:2.0
PRODID:-//Pictures London//Cinema Listings//EN
CALSCALE:GREGORIAN
METHOD:PUBLISH
X-WR-CALNAME:Pictures London Cinema
BEGIN:VEVENT
UID:a639ac65-fb94-48a9-af9f-31afd0ed03f3@pictures.london
DTSTART:20260421T192000Z
DTEND:20260421T215700Z
SUMMARY:Project Hail Mary (2026) at Curzon Hoxton
DESCRIPTION:Project Hail Mary (2026)\nat Curzon Hoxton\nBook: https://www.curzon.com/films/project-hail-mary/HO00006852/\nvia Pictures (pictures.london)
LOCATION:Curzon Hoxton\, 58 Pitfield Street\, Hoxton\, N1 6NU
URL:https://www.curzon.com/films/project-hail-mary/HO00006852/
STATUS:CONFIRMED
END:VEVENT
END:VCALENDAR