BEGIN:VCALENDAR
VERSION:2.0
PRODID:-//Pictures London//Cinema Listings//EN
CALSCALE:GREGORIAN
METHOD:PUBLISH
X-WR-CALNAME:Pictures London Cinema
BEGIN:VEVENT
UID:a5ccddd0-f5e2-4d59-8cb0-05f97216d455@pictures.london
DTSTART:20260421T170000Z
DTEND:20260421T185000Z
SUMMARY:Father Mother Sister Brother (2025) at Rich Mix
DESCRIPTION:Father Mother Sister Brother (2025)\nat Rich Mix\nBook: https://richmix.org.uk/whats-on/cinema/father-mother-sister-brother/\nvia Pictures (pictures.london)
LOCATION:Rich Mix\, 35-47 Bethnal Green Road\, Shoreditch\, E1 6LA
URL:https://richmix.org.uk/whats-on/cinema/father-mother-sister-brother/
STATUS:CONFIRMED
END:VEVENT
END:VCALENDAR