BEGIN:VCALENDAR
VERSION:2.0
PRODID:-//Pictures London//Cinema Listings//EN
CALSCALE:GREGORIAN
METHOD:PUBLISH
X-WR-CALNAME:Pictures London Cinema
BEGIN:VEVENT
UID:a4ddfc22-f383-4ca0-abc1-7f91e1ac21b7@pictures.london
DTSTART:20260421T144000Z
DTEND:20260421T162700Z
SUMMARY:California Schemin' (2026) at Ealing Picturehouse
DESCRIPTION:California Schemin' (2026)\nat Ealing Picturehouse\nBook: https://www.picturehouses.com/movie-details/031/HO00017757/california-schemin\nvia Pictures (pictures.london)
LOCATION:Ealing Picturehouse\, The Ealing Cinema\, Ealing Green\, Ealing\, W5 2PA
URL:https://www.picturehouses.com/movie-details/031/HO00017757/california-schemin
STATUS:CONFIRMED
END:VEVENT
END:VCALENDAR