BEGIN:VCALENDAR
VERSION:2.0
PRODID:-//Pictures London//Cinema Listings//EN
CALSCALE:GREGORIAN
METHOD:PUBLISH
X-WR-CALNAME:Pictures London Cinema
BEGIN:VEVENT
UID:a4739289-87ba-4505-bb3b-493dd9663a97@pictures.london
DTSTART:20260421T110000Z
DTEND:20260421T112500Z
SUMMARY:Tabby McTat (2024) at West Norwood Picturehouse
DESCRIPTION:Tabby McTat (2024)\nat West Norwood Picturehouse\nBook: https://www.picturehouses.com/movie-details/023/HO00015460/tabby-mctat\nvia Pictures (pictures.london)
LOCATION:West Norwood Picturehouse\, The Old Library\, 14-16 Knight's Hill\, West Norwood\, SE27 9NX
URL:https://www.picturehouses.com/movie-details/023/HO00015460/tabby-mctat
STATUS:CONFIRMED
END:VEVENT
END:VCALENDAR