BEGIN:VCALENDAR
VERSION:2.0
PRODID:-//Pictures London//Cinema Listings//EN
CALSCALE:GREGORIAN
METHOD:PUBLISH
X-WR-CALNAME:Pictures London Cinema
BEGIN:VEVENT
UID:a2d56cc0-4997-4f9e-a244-bcc5cf5a95e0@pictures.london
DTSTART:20260501T103000Z
DTEND:20260501T122900Z
SUMMARY:The Devil Wears Prada 2 (2026) at Everyman Belsize Park
DESCRIPTION:The Devil Wears Prada 2 (2026)\nat Everyman Belsize Park\nBook: https://purchase.everymancinema.com/launch/ticketing/e2cd0f88-5a7b-58af-bd2e-779161274865\nvia Pictures (pictures.london)
LOCATION:Everyman Belsize Park\, 203 Haverstock Hill\, Belsize Park\, NW3 4QG
URL:https://purchase.everymancinema.com/launch/ticketing/e2cd0f88-5a7b-58af-bd2e-779161274865
STATUS:CONFIRMED
END:VEVENT
END:VCALENDAR