BEGIN:VCALENDAR
VERSION:2.0
PRODID:-//Pictures London//Cinema Listings//EN
CALSCALE:GREGORIAN
METHOD:PUBLISH
X-WR-CALNAME:Pictures London Cinema
BEGIN:VEVENT
UID:a2caf6b4-c854-4784-b2c9-b4f327cfb31f@pictures.london
DTSTART:20260421T171500Z
DTEND:20260421T185100Z
SUMMARY:Rebuilding (2025) at Clapham Picturehouse
DESCRIPTION:Rebuilding (2025)\nat Clapham Picturehouse\nBook: https://www.picturehouses.com/movie-details/020/HO00017446/rebuilding\nvia Pictures (pictures.london)
LOCATION:Clapham Picturehouse\, 76 Venn Street\, Clapham\, SW4 7UL
URL:https://www.picturehouses.com/movie-details/020/HO00017446/rebuilding
STATUS:CONFIRMED
END:VEVENT
END:VCALENDAR