BEGIN:VCALENDAR
VERSION:2.0
PRODID:-//Pictures London//Cinema Listings//EN
CALSCALE:GREGORIAN
METHOD:PUBLISH
X-WR-CALNAME:Pictures London Cinema
BEGIN:VEVENT
UID:a2a21a1e-9db3-4bc1-8c85-bb1a44dac7cb@pictures.london
DTSTART:20260426T120000Z
DTEND:20260426T120300Z
SUMMARY:Chronic Youth Film Festival: Animation Workshop (1996) at Barbican Cinema
DESCRIPTION:Chronic Youth Film Festival: Animation Workshop (1996)\nat Barbican Cinema\nBook: https://www.barbican.org.uk/whats-on/2026/event/chronic-youth-film-festival-animation-workshop\nvia Pictures (pictures.london)
LOCATION:Barbican Cinema\, Silk Street\, Barbican\, EC2Y 8DS
URL:https://www.barbican.org.uk/whats-on/2026/event/chronic-youth-film-festival-animation-workshop
STATUS:CONFIRMED
END:VEVENT
END:VCALENDAR