BEGIN:VCALENDAR
VERSION:2.0
PRODID:-//Pictures London//Cinema Listings//EN
CALSCALE:GREGORIAN
METHOD:PUBLISH
X-WR-CALNAME:Pictures London Cinema
BEGIN:VEVENT
UID:a1cccd0c-c3ce-481c-a0ff-2efb9e1e7fc7@pictures.london
DTSTART:20260421T191500Z
DTEND:20260421T205500Z
SUMMARY:The Christophers (2026) at Hackney Picturehouse
DESCRIPTION:The Christophers (2026)\nat Hackney Picturehouse\nEvent: preview\nBook: https://www.picturehouses.com/movie-details/010/HO00017892/the-christophers-live-broadcast-q-a\nvia Pictures (pictures.london)
LOCATION:Hackney Picturehouse\, 270 Mare Street\, Hackney\, E8 1EJ
URL:https://www.picturehouses.com/movie-details/010/HO00017892/the-christophers-live-broadcast-q-a
STATUS:CONFIRMED
END:VEVENT
END:VCALENDAR