BEGIN:VCALENDAR
VERSION:2.0
PRODID:-//Pictures London//Cinema Listings//EN
CALSCALE:GREGORIAN
METHOD:PUBLISH
X-WR-CALNAME:Pictures London Cinema
BEGIN:VEVENT
UID:a1bb2d2f-ee55-4f37-9064-76d33e1d0d97@pictures.london
DTSTART:20260421T195000Z
DTEND:20260421T213700Z
SUMMARY:California Schemin' (2026) at Rio Cinema
DESCRIPTION:California Schemin' (2026)\nat Rio Cinema\nBook: https://riocinema.org.uk/Rio.dll/WhatsOn?f=2447618\nvia Pictures (pictures.london)
LOCATION:Rio Cinema\, 107 Kingsland High Street\, Dalston\, E8 2PB
URL:https://riocinema.org.uk/Rio.dll/WhatsOn?f=2447618
STATUS:CONFIRMED
END:VEVENT
END:VCALENDAR