BEGIN:VCALENDAR
VERSION:2.0
PRODID:-//Pictures London//Cinema Listings//EN
CALSCALE:GREGORIAN
METHOD:PUBLISH
X-WR-CALNAME:Pictures London Cinema
BEGIN:VEVENT
UID:a14fba55-0c19-4eec-b450-94665c6f4c77@pictures.london
DTSTART:20260421T173000Z
DTEND:20260421T194300Z
SUMMARY:La Grazia (2025) at Everyman Baker Street
DESCRIPTION:La Grazia (2025)\nat Everyman Baker Street\nBook: https://purchase.everymancinema.com/launch/ticketing/481b04c6-3b65-5076-87de-e44c6f6b942f\nvia Pictures (pictures.london)
LOCATION:Everyman Baker Street\, 96-98 Baker Street\, Marylebone\, W1U 6AG
URL:https://purchase.everymancinema.com/launch/ticketing/481b04c6-3b65-5076-87de-e44c6f6b942f
STATUS:CONFIRMED
END:VEVENT
END:VCALENDAR