BEGIN:VCALENDAR
VERSION:2.0
PRODID:-//Pictures London//Cinema Listings//EN
CALSCALE:GREGORIAN
METHOD:PUBLISH
X-WR-CALNAME:Pictures London Cinema
BEGIN:VEVENT
UID:a1471718-1a81-4e6d-beaf-b78e76abc31b@pictures.london
DTSTART:20260422T140000Z
DTEND:20260422T162000Z
SUMMARY:All My Sons (2019) at Hackney Picturehouse
DESCRIPTION:All My Sons (2019)\nat Hackney Picturehouse\nBook: https://www.picturehouses.com/movie-details/010/HO00017466/national-theatre-live-all-my-sons-2026\nvia Pictures (pictures.london)
LOCATION:Hackney Picturehouse\, 270 Mare Street\, Hackney\, E8 1EJ
URL:https://www.picturehouses.com/movie-details/010/HO00017466/national-theatre-live-all-my-sons-2026
STATUS:CONFIRMED
END:VEVENT
END:VCALENDAR