BEGIN:VCALENDAR
VERSION:2.0
PRODID:-//Pictures London//Cinema Listings//EN
CALSCALE:GREGORIAN
METHOD:PUBLISH
X-WR-CALNAME:Pictures London Cinema
BEGIN:VEVENT
UID:a0fe75b5-3df2-4c60-b4a2-6462b0c80fdf@pictures.london
DTSTART:20260427T173000Z
DTEND:20260427T184700Z
SUMMARY:Beatriz González\, why are you crying? (2011) at Barbican Cinema
DESCRIPTION:Beatriz González\, why are you crying? (2011)\nat Barbican Cinema\nBook: https://tickets.barbican.org.uk/choose-seats/3280201\nvia Pictures (pictures.london)
LOCATION:Barbican Cinema\, Silk Street\, Barbican\, EC2Y 8DS
URL:https://tickets.barbican.org.uk/choose-seats/3280201
STATUS:CONFIRMED
END:VEVENT
END:VCALENDAR