BEGIN:VCALENDAR
VERSION:2.0
PRODID:-//Pictures London//Cinema Listings//EN
CALSCALE:GREGORIAN
METHOD:PUBLISH
X-WR-CALNAME:Pictures London Cinema
BEGIN:VEVENT
UID:a0a67a80-0421-4531-9f36-6762b3662c3f@pictures.london
DTSTART:20260424T173000Z
DTEND:20260424T193000Z
SUMMARY:RIO FOREVER: ORLANDO ON 35MM WITH SALLY POTTER AND SO MAYER (1992) at Rio Cinema
DESCRIPTION:RIO FOREVER: ORLANDO ON 35MM WITH SALLY POTTER AND SO MAYER (1992)\nat Rio Cinema\nBook: https://riocinema.org.uk/Rio.dll/WhatsOn?f=2383864\nvia Pictures (pictures.london)
LOCATION:Rio Cinema\, 107 Kingsland High Street\, Dalston\, E8 2PB
URL:https://riocinema.org.uk/Rio.dll/WhatsOn?f=2383864
STATUS:CONFIRMED
END:VEVENT
END:VCALENDAR