BEGIN:VCALENDAR
VERSION:2.0
PRODID:-//Pictures London//Cinema Listings//EN
CALSCALE:GREGORIAN
METHOD:PUBLISH
X-WR-CALNAME:Pictures London Cinema
BEGIN:VEVENT
UID:a07c9cbe-e349-4146-a77e-4a71f967424f@pictures.london
DTSTART:20260425T193000Z
DTEND:20260425T205500Z
SUMMARY:Star Time (1992) at The Nickel
DESCRIPTION:Star Time (1992)\nat The Nickel\nFormat: DIGITAL\nBook: https://book.thenickel.co.uk/screening/286\nvia Pictures (pictures.london)
LOCATION:The Nickel\, 194 Upper Street\, Islington\, N1 1RQ
URL:https://book.thenickel.co.uk/screening/286
STATUS:CONFIRMED
END:VEVENT
END:VCALENDAR