BEGIN:VCALENDAR
VERSION:2.0
PRODID:-//Pictures London//Cinema Listings//EN
CALSCALE:GREGORIAN
METHOD:PUBLISH
X-WR-CALNAME:Pictures London Cinema
BEGIN:VEVENT
UID:a00501d6-c183-4a63-9d9e-e522f8eabfd3@pictures.london
DTSTART:20260421T124000Z
DTEND:20260421T144000Z
SUMMARY:AKIRA (2026 Re-release) (Subbed) (2026) at The Ritzy
DESCRIPTION:AKIRA (2026 Re-release) (Subbed) (2026)\nat The Ritzy\nBook: https://www.picturehouses.com/movie-details/004/HO00017693/akira-2026-re-release\nvia Pictures (pictures.london)
LOCATION:The Ritzy\, Brixton Oval\, Coldharbour Lane\, Brixton\, SW2 1JG
URL:https://www.picturehouses.com/movie-details/004/HO00017693/akira-2026-re-release
STATUS:CONFIRMED
END:VEVENT
END:VCALENDAR