BEGIN:VCALENDAR
VERSION:2.0
PRODID:-//Pictures London//Cinema Listings//EN
CALSCALE:GREGORIAN
METHOD:PUBLISH
X-WR-CALNAME:Pictures London Cinema
BEGIN:VEVENT
UID:9fef7cdb-a684-4f89-9920-ffea053525b3@pictures.london
DTSTART:20260421T164500Z
DTEND:20260421T182300Z
SUMMARY:The Super Mario Galaxy Movie (2026) at Castle Sidcup
DESCRIPTION:The Super Mario Galaxy Movie (2026)\nat Castle Sidcup\nBook: https://castlesidcup.com/bookings/1804/\nvia Pictures (pictures.london)
LOCATION:Castle Sidcup\, 44 Main Road\, Sidcup\, DA14 6NJ
URL:https://castlesidcup.com/bookings/1804/
STATUS:CONFIRMED
END:VEVENT
END:VCALENDAR