BEGIN:VCALENDAR
VERSION:2.0
PRODID:-//Pictures London//Cinema Listings//EN
CALSCALE:GREGORIAN
METHOD:PUBLISH
X-WR-CALNAME:Pictures London Cinema
BEGIN:VEVENT
UID:9f63ccbb-3260-40b0-92d7-95b5d20d213f@pictures.london
DTSTART:20260421T183000Z
DTEND:20260421T210700Z
SUMMARY:Project Hail Mary (2026) at Curzon Kingston
DESCRIPTION:Project Hail Mary (2026)\nat Curzon Kingston\nBook: https://www.curzon.com/films/project-hail-mary/HO00006852/\nvia Pictures (pictures.london)
LOCATION:Curzon Kingston\, Richmond Road\, Kingston\, KT2 5BW
URL:https://www.curzon.com/films/project-hail-mary/HO00006852/
STATUS:CONFIRMED
END:VEVENT
END:VCALENDAR