BEGIN:VCALENDAR
VERSION:2.0
PRODID:-//Pictures London//Cinema Listings//EN
CALSCALE:GREGORIAN
METHOD:PUBLISH
X-WR-CALNAME:Pictures London Cinema
BEGIN:VEVENT
UID:9f1e1da3-ff7b-4750-a543-10accd210025@pictures.london
DTSTART:20260425T200000Z
DTEND:20260425T213700Z
SUMMARY:After Hours (1985) at Ealing Picturehouse
DESCRIPTION:After Hours (1985)\nat Ealing Picturehouse\nFormat: DCP_4K\nBook: https://www.picturehouses.com/movie-details/031/HO00014433/after-hours-4k-restoration\nvia Pictures (pictures.london)
LOCATION:Ealing Picturehouse\, The Ealing Cinema\, Ealing Green\, Ealing\, W5 2PA
URL:https://www.picturehouses.com/movie-details/031/HO00014433/after-hours-4k-restoration
STATUS:CONFIRMED
END:VEVENT
END:VCALENDAR