BEGIN:VCALENDAR
VERSION:2.0
PRODID:-//Pictures London//Cinema Listings//EN
CALSCALE:GREGORIAN
METHOD:PUBLISH
X-WR-CALNAME:Pictures London Cinema
BEGIN:VEVENT
UID:9f1d628e-7d3d-4668-ba60-a691b57bc686@pictures.london
DTSTART:20260427T194500Z
DTEND:20260427T214500Z
SUMMARY:COSMIK DEBRIS PRESENTS: BREATHLESS (1983) (1983) at The Nickel
DESCRIPTION:COSMIK DEBRIS PRESENTS: BREATHLESS (1983) (1983)\nat The Nickel\nFormat: DIGITAL\nBook: https://book.thenickel.co.uk/screening/312\nvia Pictures (pictures.london)
LOCATION:The Nickel\, 194 Upper Street\, Islington\, N1 1RQ
URL:https://book.thenickel.co.uk/screening/312
STATUS:CONFIRMED
END:VEVENT
END:VCALENDAR