BEGIN:VCALENDAR
VERSION:2.0
PRODID:-//Pictures London//Cinema Listings//EN
CALSCALE:GREGORIAN
METHOD:PUBLISH
X-WR-CALNAME:Pictures London Cinema
BEGIN:VEVENT
UID:9e925ff7-4f83-451b-a180-375e838ea2c8@pictures.london
DTSTART:20260421T180000Z
DTEND:20260421T201300Z
SUMMARY:La Grazia (2025) at Everyman Barnet
DESCRIPTION:La Grazia (2025)\nat Everyman Barnet\nBook: https://purchase.everymancinema.com/launch/ticketing/3bb05918-14bb-53f8-8db2-c958455706a2\nvia Pictures (pictures.london)
LOCATION:Everyman Barnet\, Great North Road\, Barnet\, EN5 5SJ
URL:https://purchase.everymancinema.com/launch/ticketing/3bb05918-14bb-53f8-8db2-c958455706a2
STATUS:CONFIRMED
END:VEVENT
END:VCALENDAR