BEGIN:VCALENDAR
VERSION:2.0
PRODID:-//Pictures London//Cinema Listings//EN
CALSCALE:GREGORIAN
METHOD:PUBLISH
X-WR-CALNAME:Pictures London Cinema
BEGIN:VEVENT
UID:9e4f2e4f-1c95-4549-8093-4e8037f78036@pictures.london
DTSTART:20260422T191500Z
DTEND:20260422T204200Z
SUMMARY:8 First Dates (2012) at Close-Up Film Centre
DESCRIPTION:8 First Dates (2012)\nat Close-Up Film Centre\nBook: https://www.ticketsource.co.uk/close-up-cinema/e-yzkamb\nvia Pictures (pictures.london)
LOCATION:Close-Up Film Centre\, 97 Sclater Street\, Shoreditch\, E1 6HR
URL:https://www.ticketsource.co.uk/close-up-cinema/e-yzkamb
STATUS:CONFIRMED
END:VEVENT
END:VCALENDAR