BEGIN:VCALENDAR
VERSION:2.0
PRODID:-//Pictures London//Cinema Listings//EN
CALSCALE:GREGORIAN
METHOD:PUBLISH
X-WR-CALNAME:Pictures London Cinema
BEGIN:VEVENT
UID:9e43092e-ff0a-40f8-8b0b-17c7fb6cd59a@pictures.london
DTSTART:20260422T180000Z
DTEND:20260422T193100Z
SUMMARY:TV Party: The Documentary + Best of Glenn O’Brien's TV Party (2008) at Rio Cinema
DESCRIPTION:TV Party: The Documentary + Best of Glenn O’Brien's TV Party (2008)\nat Rio Cinema\nBook: https://riocinema.org.uk/Rio.dll/WhatsOn?f=2309124\nvia Pictures (pictures.london)
LOCATION:Rio Cinema\, 107 Kingsland High Street\, Dalston\, E8 2PB
URL:https://riocinema.org.uk/Rio.dll/WhatsOn?f=2309124
STATUS:CONFIRMED
END:VEVENT
END:VCALENDAR