BEGIN:VCALENDAR
VERSION:2.0
PRODID:-//Pictures London//Cinema Listings//EN
CALSCALE:GREGORIAN
METHOD:PUBLISH
X-WR-CALNAME:Pictures London Cinema
BEGIN:VEVENT
UID:9da68347-c637-423c-b7cb-90bd78c48737@pictures.london
DTSTART:20260501T164000Z
DTEND:20260501T183900Z
SUMMARY:The Devil Wears Prada 2 (2026) at Curzon Soho
DESCRIPTION:The Devil Wears Prada 2 (2026)\nat Curzon Soho\nBook: https://www.curzon.com/films/the-devil-wears-prada-2/HO00006909/\nvia Pictures (pictures.london)
LOCATION:Curzon Soho\, 99 Shaftesbury Avenue\, Soho\, W1D 5DY
URL:https://www.curzon.com/films/the-devil-wears-prada-2/HO00006909/
STATUS:CONFIRMED
END:VEVENT
END:VCALENDAR