BEGIN:VCALENDAR
VERSION:2.0
PRODID:-//Pictures London//Cinema Listings//EN
CALSCALE:GREGORIAN
METHOD:PUBLISH
X-WR-CALNAME:Pictures London Cinema
BEGIN:VEVENT
UID:9d6d3538-5346-46e1-bdc4-4aa21c46303a@pictures.london
DTSTART:20260422T153000Z
DTEND:20260422T172000Z
SUMMARY:The Magic Faraway Tree (2026) at Everyman Barnet
DESCRIPTION:The Magic Faraway Tree (2026)\nat Everyman Barnet\nBook: https://purchase.everymancinema.com/launch/ticketing/ca8597c3-f731-5175-b4e1-36078050ecc9\nvia Pictures (pictures.london)
LOCATION:Everyman Barnet\, Great North Road\, Barnet\, EN5 5SJ
URL:https://purchase.everymancinema.com/launch/ticketing/ca8597c3-f731-5175-b4e1-36078050ecc9
STATUS:CONFIRMED
END:VEVENT
END:VCALENDAR