BEGIN:VCALENDAR
VERSION:2.0
PRODID:-//Pictures London//Cinema Listings//EN
CALSCALE:GREGORIAN
METHOD:PUBLISH
X-WR-CALNAME:Pictures London Cinema
BEGIN:VEVENT
UID:9c753597-1364-427f-820e-fa73b19ab4f5@pictures.london
DTSTART:20260421T141500Z
DTEND:20260421T165200Z
SUMMARY:Project Hail Mary (2026) at Everyman Maida Vale
DESCRIPTION:Project Hail Mary (2026)\nat Everyman Maida Vale\nBook: https://purchase.everymancinema.com/launch/ticketing/d740197a-7ae1-5b72-9092-cb669a2c46cb\nvia Pictures (pictures.london)
LOCATION:Everyman Maida Vale\, 215 Sutherland Avenue\, Maida Vale\, W9 1TT
URL:https://purchase.everymancinema.com/launch/ticketing/d740197a-7ae1-5b72-9092-cb669a2c46cb
STATUS:CONFIRMED
END:VEVENT
END:VCALENDAR