BEGIN:VCALENDAR
VERSION:2.0
PRODID:-//Pictures London//Cinema Listings//EN
CALSCALE:GREGORIAN
METHOD:PUBLISH
X-WR-CALNAME:Pictures London Cinema
BEGIN:VEVENT
UID:9c4cb165-d6e8-4881-9526-0ec3f966245c@pictures.london
DTSTART:20260422T174500Z
DTEND:20260422T195200Z
SUMMARY:Michael (2026) at Everyman Baker Street
DESCRIPTION:Michael (2026)\nat Everyman Baker Street\nBook: https://purchase.everymancinema.com/launch/ticketing/13564969-208d-5b82-a1e5-719559c9d677\nvia Pictures (pictures.london)
LOCATION:Everyman Baker Street\, 96-98 Baker Street\, Marylebone\, W1U 6AG
URL:https://purchase.everymancinema.com/launch/ticketing/13564969-208d-5b82-a1e5-719559c9d677
STATUS:CONFIRMED
END:VEVENT
END:VCALENDAR