BEGIN:VCALENDAR
VERSION:2.0
PRODID:-//Pictures London//Cinema Listings//EN
CALSCALE:GREGORIAN
METHOD:PUBLISH
X-WR-CALNAME:Pictures London Cinema
BEGIN:VEVENT
UID:9c18f6b3-c988-40f8-9b1e-c15fedee3758@pictures.london
DTSTART:20260424T172000Z
DTEND:20260424T190600Z
SUMMARY:The Last Spy (2025) at Curzon Bloomsbury
DESCRIPTION:The Last Spy (2025)\nat Curzon Bloomsbury\nBook: https://www.curzon.com/films/dochouse-the-last-spy/HO00006921/\nvia Pictures (pictures.london)
LOCATION:Curzon Bloomsbury\, The Brunswick Centre\, Bloomsbury\, WC1H 8AG
URL:https://www.curzon.com/films/dochouse-the-last-spy/HO00006921/
STATUS:CONFIRMED
END:VEVENT
END:VCALENDAR