BEGIN:VCALENDAR
VERSION:2.0
PRODID:-//Pictures London//Cinema Listings//EN
CALSCALE:GREGORIAN
METHOD:PUBLISH
X-WR-CALNAME:Pictures London Cinema
BEGIN:VEVENT
UID:9bb25bc0-b395-47ca-8725-65a342ece2c6@pictures.london
DTSTART:20260421T151000Z
DTEND:20260421T163600Z
SUMMARY:The Blue Trail (2025) at Finsbury Park Picturehouse
DESCRIPTION:The Blue Trail (2025)\nat Finsbury Park Picturehouse\nBook: https://www.picturehouses.com/movie-details/029/HO00017906/the-blue-trail\nvia Pictures (pictures.london)
LOCATION:Finsbury Park Picturehouse\, Unit B\, Finsbury Park Station\, Finsbury Park\, N4 3FP
URL:https://www.picturehouses.com/movie-details/029/HO00017906/the-blue-trail
STATUS:CONFIRMED
END:VEVENT
END:VCALENDAR