BEGIN:VCALENDAR
VERSION:2.0
PRODID:-//Pictures London//Cinema Listings//EN
CALSCALE:GREGORIAN
METHOD:PUBLISH
X-WR-CALNAME:Pictures London Cinema
BEGIN:VEVENT
UID:9b5dff90-4f9c-4868-a8d6-3c6b8262df41@pictures.london
DTSTART:20260421T211500Z
DTEND:20260421T224900Z
SUMMARY:undertone (2026) at Everyman Broadgate
DESCRIPTION:undertone (2026)\nat Everyman Broadgate\nBook: https://purchase.everymancinema.com/launch/ticketing/e8c6207e-a505-5b58-bfc8-6d65a265d029\nvia Pictures (pictures.london)
LOCATION:Everyman Broadgate\, Broadgate Circle\, Liverpool Street\, EC2M 2QS
URL:https://purchase.everymancinema.com/launch/ticketing/e8c6207e-a505-5b58-bfc8-6d65a265d029
STATUS:CONFIRMED
END:VEVENT
END:VCALENDAR