BEGIN:VCALENDAR
VERSION:2.0
PRODID:-//Pictures London//Cinema Listings//EN
CALSCALE:GREGORIAN
METHOD:PUBLISH
X-WR-CALNAME:Pictures London Cinema
BEGIN:VEVENT
UID:9b4d968c-ccb2-4196-9931-b7c693177230@pictures.london
DTSTART:20260501T141500Z
DTEND:20260501T161400Z
SUMMARY:The Devil Wears Prada 2 (2026) at Crouch End Picturehouse
DESCRIPTION:The Devil Wears Prada 2 (2026)\nat Crouch End Picturehouse\nBook: https://www.picturehouses.com/movie-details/024/HO00017738/the-devil-wears-prada-2\nvia Pictures (pictures.london)
LOCATION:Crouch End Picturehouse\, 165 Tottenham Lane\, Crouch End\, N8 8HP
URL:https://www.picturehouses.com/movie-details/024/HO00017738/the-devil-wears-prada-2
STATUS:CONFIRMED
END:VEVENT
END:VCALENDAR