BEGIN:VCALENDAR
VERSION:2.0
PRODID:-//Pictures London//Cinema Listings//EN
CALSCALE:GREGORIAN
METHOD:PUBLISH
X-WR-CALNAME:Pictures London Cinema
BEGIN:VEVENT
UID:9b25346b-0465-4c97-828e-c77b665927e8@pictures.london
DTSTART:20260501T140000Z
DTEND:20260501T155900Z
SUMMARY:The Devil Wears Prada 2 (2026) at Curzon Soho
DESCRIPTION:The Devil Wears Prada 2 (2026)\nat Curzon Soho\nBook: https://www.curzon.com/films/the-devil-wears-prada-2/HO00006909/\nvia Pictures (pictures.london)
LOCATION:Curzon Soho\, 99 Shaftesbury Avenue\, Soho\, W1D 5DY
URL:https://www.curzon.com/films/the-devil-wears-prada-2/HO00006909/
STATUS:CONFIRMED
END:VEVENT
END:VCALENDAR